BEGIN:VCALENDAR
VERSION:2.0
PRODID:-//TRL North Carolina - ECPv6.15.20//NONSGML v1.0//EN
CALSCALE:GREGORIAN
METHOD:PUBLISH
X-ORIGINAL-URL:https://nc.thereadingleague.org
X-WR-CALDESC:Events for TRL North Carolina
REFRESH-INTERVAL;VALUE=DURATION:PT1H
X-Robots-Tag:noindex
X-PUBLISHED-TTL:PT1H
BEGIN:VTIMEZONE
TZID:America/New_York
BEGIN:DAYLIGHT
TZOFFSETFROM:-0500
TZOFFSETTO:-0400
TZNAME:EDT
DTSTART:20210314T070000
END:DAYLIGHT
BEGIN:STANDARD
TZOFFSETFROM:-0400
TZOFFSETTO:-0500
TZNAME:EST
DTSTART:20211107T060000
END:STANDARD
BEGIN:DAYLIGHT
TZOFFSETFROM:-0500
TZOFFSETTO:-0400
TZNAME:EDT
DTSTART:20220313T070000
END:DAYLIGHT
BEGIN:STANDARD
TZOFFSETFROM:-0400
TZOFFSETTO:-0500
TZNAME:EST
DTSTART:20221106T060000
END:STANDARD
BEGIN:DAYLIGHT
TZOFFSETFROM:-0500
TZOFFSETTO:-0400
TZNAME:EDT
DTSTART:20230312T070000
END:DAYLIGHT
BEGIN:STANDARD
TZOFFSETFROM:-0400
TZOFFSETTO:-0500
TZNAME:EST
DTSTART:20231105T060000
END:STANDARD
BEGIN:DAYLIGHT
TZOFFSETFROM:-0500
TZOFFSETTO:-0400
TZNAME:EDT
DTSTART:20240310T070000
END:DAYLIGHT
BEGIN:STANDARD
TZOFFSETFROM:-0400
TZOFFSETTO:-0500
TZNAME:EST
DTSTART:20241103T060000
END:STANDARD
BEGIN:DAYLIGHT
TZOFFSETFROM:-0500
TZOFFSETTO:-0400
TZNAME:EDT
DTSTART:20250309T070000
END:DAYLIGHT
BEGIN:STANDARD
TZOFFSETFROM:-0400
TZOFFSETTO:-0500
TZNAME:EST
DTSTART:20251102T060000
END:STANDARD
BEGIN:DAYLIGHT
TZOFFSETFROM:-0500
TZOFFSETTO:-0400
TZNAME:EDT
DTSTART:20260308T070000
END:DAYLIGHT
BEGIN:STANDARD
TZOFFSETFROM:-0400
TZOFFSETTO:-0500
TZNAME:EST
DTSTART:20261101T060000
END:STANDARD
END:VTIMEZONE
BEGIN:VEVENT
DTSTART;TZID=America/New_York:20251113T180000
DTEND;TZID=America/New_York:20251113T190000
DTSTAMP:20260420T013259
CREATED:20251023T173650Z
LAST-MODIFIED:20251023T173650Z
UID:10000048-1763056800-1763060400@nc.thereadingleague.org
SUMMARY:Left Behind: The Film & Virtual Discussion
DESCRIPTION:
URL:https://nc.thereadingleague.org/calendar/left-behind-the-film-virtual-discussion/
LOCATION:Zoom
CATEGORIES:Chapters,Event,North Carolina
ATTACH;FMTTYPE=image/png:https://nc.thereadingleague.org/wp-content/uploads/sites/76/2025/10/Website-image.png
ORGANIZER;CN="The Reading League North Carolina":MAILTO:info@nc.thereadingleague.org
END:VEVENT
BEGIN:VEVENT
DTSTART;TZID=America/New_York:20250925T183000
DTEND;TZID=America/New_York:20250925T193000
DTSTAMP:20260420T013259
CREATED:20250825T135211Z
LAST-MODIFIED:20250825T135211Z
UID:10000046-1758825000-1758828600@nc.thereadingleague.org
SUMMARY:Mindful of Multilinguals | The Science of Reading Through a Multilingual Lens
DESCRIPTION:
URL:https://nc.thereadingleague.org/calendar/mindful-of-multilinguals-the-science-of-reading-through-a-multilingual-lens/
LOCATION:Zoom
CATEGORIES:Chapters,Event,North Carolina
ORGANIZER;CN="The Reading League North Carolina":MAILTO:info@nc.thereadingleague.org
END:VEVENT
BEGIN:VEVENT
DTSTART;TZID=America/New_York:20250620T090000
DTEND;TZID=America/New_York:20250620T130000
DTSTAMP:20260420T013259
CREATED:20250412T122007Z
LAST-MODIFIED:20250522T201059Z
UID:10000036-1750410000-1750424400@nc.thereadingleague.org
SUMMARY:Summer Virtual Symposium
DESCRIPTION:Join The Reading League North Carolina and South Carolina for our inaugural Summer Virtual Symposium\, an exciting event focused on Research\, Leadership\, and Advocacy in Action! This symposium will bring together educators\, school and district leaders\, and literacy advocates to explore how we can advance literacy across the Carolinas through evidence-aligned instruction\, leadership\, and policy-driven change. \nWe’re thrilled to welcome Terrie Noland as the keynote speaker for the Summer Virtual Literacy Symposium! Terri\, a passionate literacy leader\, will inspire and empower us to drive meaningful change in reading instruction. \nThis event will be recorded.  Registered participants will receive the recordings and any associated handouts. \nSecure your spot today and be part of this transformative event. Limited seats are available. Tickets for non-members: $40 \nTickets for TRL-NC or TRL-SC members: $10 Members of our organizations will receive a discount code via email. \nNot a member? Join us today! Join The Reading League North Carolina here. Join The Reading League South Carolina here. \nView a special message from our Keynote Speaker Terrie Noland and preview the agenda below!
URL:https://nc.thereadingleague.org/calendar/summer-virtual-symposium/
LOCATION:Zoom
CATEGORIES:Chapters,Event,Live Event,North Carolina,South Carolina
ATTACH;FMTTYPE=image/png:https://nc.thereadingleague.org/wp-content/uploads/sites/76/2025/04/Summer-Virtual-Symposium-Wordpress-Featured-Image.png
ORGANIZER;CN="The Reading League North Carolina and The Reading League South Carolina":MAILTO:info@nc.thereadingleague.org
END:VEVENT
BEGIN:VEVENT
DTSTART;TZID=America/New_York:20230919T190000
DTEND;TZID=America/New_York:20230919T200000
DTSTAMP:20260420T013259
CREATED:20230902T200208Z
LAST-MODIFIED:20230902T201519Z
UID:10000010-1695150000-1695153600@nc.thereadingleague.org
SUMMARY:Back to School Celebration with The Reading League North Carolina
DESCRIPTION:Join The Reading League North Carolina for a virtual Back to School Celebration for the new year! Meet other members and friends in our community. Learn more about TRL-NC and events. Join our breakout room discussion based on Dr. Stephanie Stollar’s guidance: “Moving from Shared Reading to Intentionally Reading Aloud.” We have prizes to give away!
URL:https://nc.thereadingleague.org/calendar/back-to-school-celebration-with-the-reading-league-north-carolina/
LOCATION:Zoom
CATEGORIES:Chapters,Event,Live Event
ATTACH;FMTTYPE=application/pdf:https://nc.thereadingleague.org/wp-content/uploads/sites/76/2023/09/2023-Back-to-School-Event.pdf
ORGANIZER;CN="The Reading League North Carolina":MAILTO:info@nc.thereadingleague.org
END:VEVENT
BEGIN:VEVENT
DTSTART;TZID=America/New_York:20230720T090000
DTEND;TZID=America/New_York:20230720T130000
DTSTAMP:20260420T013259
CREATED:20230622T011256Z
LAST-MODIFIED:20230622T011256Z
UID:10000009-1689843600-1689858000@nc.thereadingleague.org
SUMMARY:The Right to Read Screening and Panel Discussion
DESCRIPTION:
URL:https://nc.thereadingleague.org/calendar/the-right-to-read-screening-and-panel-discussion/
LOCATION:The Dubois Center at UNC Charlotte Center City\, 320 E 9th St.\, Charlotte\, North Carolina\, 28202\, United States
CATEGORIES:Chapters,Event,New
ATTACH;FMTTYPE=image/png:https://nc.thereadingleague.org/wp-content/uploads/sites/76/2023/06/Draft_TRLNC_July20.png
ORGANIZER;CN="The Reading League North Carolina":MAILTO:info@nc.thereadingleague.org
END:VEVENT
BEGIN:VEVENT
DTSTART;TZID=America/New_York:20220512T170000
DTEND;TZID=America/New_York:20220512T200000
DTSTAMP:20260420T013259
CREATED:20220301T194631Z
LAST-MODIFIED:20220509T163358Z
UID:10000006-1652374800-1652385600@nc.thereadingleague.org
SUMMARY:Rock Your Literacy Block
DESCRIPTION:Abstract:\nWe learn a lot about the science of reading\, but how exactly do you apply it? There are so many things to teach\, how do you fit it all in? What things do you teach whole group and how can you manage small groups? Join elementary school teacher\, Lindsay Kemeny\, as she walks you through her literacy block and shares what’s working in her classroom. You will come away with concrete examples of how to teach the components of reading in the early grades so that you can rock your literacy block. \nPurchase Event
URL:https://nc.thereadingleague.org/calendar/test-two/
CATEGORIES:Event
ATTACH;FMTTYPE=image/jpeg:https://nc.thereadingleague.org/wp-content/uploads/sites/76/2022/03/rock-your-literacy-block.jpg
END:VEVENT
END:VCALENDAR