BEGIN:VCALENDAR
VERSION:2.0
PRODID:-//TRL North Carolina - ECPv6.15.20//NONSGML v1.0//EN
CALSCALE:GREGORIAN
METHOD:PUBLISH
X-WR-CALNAME:TRL North Carolina
X-ORIGINAL-URL:https://nc.thereadingleague.org
X-WR-CALDESC:Events for TRL North Carolina
REFRESH-INTERVAL;VALUE=DURATION:PT1H
X-Robots-Tag:noindex
X-PUBLISHED-TTL:PT1H
BEGIN:VTIMEZONE
TZID:America/New_York
BEGIN:DAYLIGHT
TZOFFSETFROM:-0500
TZOFFSETTO:-0400
TZNAME:EDT
DTSTART:20210314T070000
END:DAYLIGHT
BEGIN:STANDARD
TZOFFSETFROM:-0400
TZOFFSETTO:-0500
TZNAME:EST
DTSTART:20211107T060000
END:STANDARD
BEGIN:DAYLIGHT
TZOFFSETFROM:-0500
TZOFFSETTO:-0400
TZNAME:EDT
DTSTART:20220313T070000
END:DAYLIGHT
BEGIN:STANDARD
TZOFFSETFROM:-0400
TZOFFSETTO:-0500
TZNAME:EST
DTSTART:20221106T060000
END:STANDARD
BEGIN:DAYLIGHT
TZOFFSETFROM:-0500
TZOFFSETTO:-0400
TZNAME:EDT
DTSTART:20230312T070000
END:DAYLIGHT
BEGIN:STANDARD
TZOFFSETFROM:-0400
TZOFFSETTO:-0500
TZNAME:EST
DTSTART:20231105T060000
END:STANDARD
BEGIN:DAYLIGHT
TZOFFSETFROM:-0500
TZOFFSETTO:-0400
TZNAME:EDT
DTSTART:20240310T070000
END:DAYLIGHT
BEGIN:STANDARD
TZOFFSETFROM:-0400
TZOFFSETTO:-0500
TZNAME:EST
DTSTART:20241103T060000
END:STANDARD
BEGIN:DAYLIGHT
TZOFFSETFROM:-0500
TZOFFSETTO:-0400
TZNAME:EDT
DTSTART:20250309T070000
END:DAYLIGHT
BEGIN:STANDARD
TZOFFSETFROM:-0400
TZOFFSETTO:-0500
TZNAME:EST
DTSTART:20251102T060000
END:STANDARD
BEGIN:DAYLIGHT
TZOFFSETFROM:-0500
TZOFFSETTO:-0400
TZNAME:EDT
DTSTART:20260308T070000
END:DAYLIGHT
BEGIN:STANDARD
TZOFFSETFROM:-0400
TZOFFSETTO:-0500
TZNAME:EST
DTSTART:20261101T060000
END:STANDARD
END:VTIMEZONE
BEGIN:VTIMEZONE
TZID:UTC
BEGIN:STANDARD
TZOFFSETFROM:+0000
TZOFFSETTO:+0000
TZNAME:UTC
DTSTART:20210101T000000
END:STANDARD
END:VTIMEZONE
BEGIN:VEVENT
DTSTART;TZID=America/New_York:20250304T183000
DTEND;TZID=America/New_York:20250304T193000
DTSTAMP:20260419T083453
CREATED:20250212T150833Z
LAST-MODIFIED:20250212T151208Z
UID:10000035-1741113000-1741116600@nc.thereadingleague.org
SUMMARY:What Is The Science of Reading?
DESCRIPTION:Join us as we read and discuss The Science of Reading: Defining Guide from The Reading League. This free resource is available for download from the national organization’s webpage. Participants will read the text then join a virtually facilitated discussion with TRL-NC board members Sean Lindsey and Courtney Morgan. This event is great for those who are getting started on their SoR journey or who want to refresh their understanding.
URL:https://nc.thereadingleague.org/calendar/51281/
LOCATION:Zoom
ATTACH;FMTTYPE=image/png:https://nc.thereadingleague.org/wp-content/uploads/sites/76/2025/02/What-is-the-Science-of-Reading-Event-Image.png
ORGANIZER;CN="The Reading League North Carolina":MAILTO:info@nc.thereadingleague.org
END:VEVENT
BEGIN:VEVENT
DTSTART;TZID=America/New_York:20250208T100000
DTEND;TZID=America/New_York:20250208T154500
DTSTAMP:20260419T083453
CREATED:20250114T200005Z
LAST-MODIFIED:20250114T200005Z
UID:10000034-1739008800-1739029500@nc.thereadingleague.org
SUMMARY:17th Annual Best Practice Symposium in Multisensory Teaching and Learning
DESCRIPTION:
URL:https://nc.thereadingleague.org/calendar/17th-annual-best-practice-symposium-in-multisensory-teaching-and-learning/
LOCATION:Key Learning Center\, 1345 Hendersonville Road\, Asheville\, NC\, 28803\, United States
END:VEVENT
BEGIN:VEVENT
DTSTART;TZID=America/New_York:20250201T083000
DTEND;TZID=America/New_York:20250201T140000
DTSTAMP:20260419T083453
CREATED:20250114T195526Z
LAST-MODIFIED:20250114T195526Z
UID:10000033-1738398600-1738418400@nc.thereadingleague.org
SUMMARY:Mebane Early Literacy Summit
DESCRIPTION:
URL:https://nc.thereadingleague.org/calendar/mebane-early-literacy-summit/
LOCATION:Cone Center of UNC Charlotte\, 9025 University Road\, Charlotte\, NC\, 28270\, United States
ORGANIZER;CN="Mebane Early Literacy Center":MAILTO:mebanecenter@charlotte.edu
END:VEVENT
BEGIN:VEVENT
DTSTART;TZID=America/New_York:20250122T183000
DTEND;TZID=America/New_York:20250122T193000
DTSTAMP:20260419T083453
CREATED:20250114T195031Z
LAST-MODIFIED:20250114T195031Z
UID:10000032-1737570600-1737574200@nc.thereadingleague.org
SUMMARY:Encore Session!  North Carolina Literacy: How statewide initiatives and nonprofit grassroot efforts are working together to impact student outcomes.
DESCRIPTION:
URL:https://nc.thereadingleague.org/calendar/encore-session-north-carolina-literacy-how-statewide-initiatives-and-nonprofit-grassroot-efforts-are-working-together-to-impact-student-outcomes/
LOCATION:Zoom
ATTACH;FMTTYPE=image/png:https://nc.thereadingleague.org/wp-content/uploads/sites/76/2025/01/North-Carolina-Literacy-Event-header.png
ORGANIZER;CN="The Reading League North Carolina":MAILTO:info@nc.thereadingleague.org
END:VEVENT
BEGIN:VEVENT
DTSTART;TZID=America/New_York:20241009T190000
DTEND;TZID=America/New_York:20241009T201500
DTSTAMP:20260419T083453
CREATED:20240807T204100Z
LAST-MODIFIED:20240807T204100Z
UID:10000031-1728500400-1728504900@nc.thereadingleague.org
SUMMARY:Spotlight - Climbing the Ladder of Reading and Writing: Powerful Takeaways from Co-Editors
DESCRIPTION:
URL:https://nc.thereadingleague.org/calendar/spotlight-climbing-the-ladder-of-reading-and-writing-powerful-takeaways-from-co-editors/2024-10-09/
LOCATION:Zoom
ATTACH;FMTTYPE=image/png:https://nc.thereadingleague.org/wp-content/uploads/sites/76/2024/08/NC-Chapter-3.png
ORGANIZER;CN="The Reading League North Carolina":MAILTO:info@nc.thereadingleague.org
END:VEVENT
BEGIN:VEVENT
DTSTART;TZID=America/New_York:20240918T190000
DTEND;TZID=America/New_York:20240918T201500
DTSTAMP:20260419T083453
CREATED:20240807T204100Z
LAST-MODIFIED:20240807T204100Z
UID:10000030-1726686000-1726690500@nc.thereadingleague.org
SUMMARY:Spotlight - Climbing the Ladder of Reading and Writing: Powerful Takeaways from Co-Editors
DESCRIPTION:
URL:https://nc.thereadingleague.org/calendar/spotlight-climbing-the-ladder-of-reading-and-writing-powerful-takeaways-from-co-editors/2024-09-18/
LOCATION:Zoom
ATTACH;FMTTYPE=image/png:https://nc.thereadingleague.org/wp-content/uploads/sites/76/2024/08/NC-Chapter-3.png
ORGANIZER;CN="The Reading League North Carolina":MAILTO:info@nc.thereadingleague.org
END:VEVENT
BEGIN:VEVENT
DTSTART;TZID=America/New_York:20240911T190000
DTEND;TZID=America/New_York:20240911T201500
DTSTAMP:20260419T083453
CREATED:20240807T204100Z
LAST-MODIFIED:20240807T204100Z
UID:10000029-1726081200-1726085700@nc.thereadingleague.org
SUMMARY:Spotlight - Climbing the Ladder of Reading and Writing: Powerful Takeaways from Co-Editors
DESCRIPTION:
URL:https://nc.thereadingleague.org/calendar/spotlight-climbing-the-ladder-of-reading-and-writing-powerful-takeaways-from-co-editors/2024-09-11/
LOCATION:Zoom
ATTACH;FMTTYPE=image/png:https://nc.thereadingleague.org/wp-content/uploads/sites/76/2024/08/NC-Chapter-3.png
ORGANIZER;CN="The Reading League North Carolina":MAILTO:info@nc.thereadingleague.org
END:VEVENT
BEGIN:VEVENT
DTSTART;TZID=America/New_York:20240910T180000
DTEND;TZID=America/New_York:20240910T193000
DTSTAMP:20260419T083453
CREATED:20240321T211213Z
LAST-MODIFIED:20240321T211213Z
UID:10000025-1725991200-1725996600@nc.thereadingleague.org
SUMMARY:Summer Book Study: The Reading Comprehension Blueprint
DESCRIPTION:
URL:https://nc.thereadingleague.org/calendar/summer-book-study-the-reading-comprehension-blueprint/2024-09-10/
LOCATION:Zoom
ATTACH;FMTTYPE=image/png:https://nc.thereadingleague.org/wp-content/uploads/sites/76/2024/03/RCB-Book-Study-Announcement-March-2024-Option-1-new-bitly.png
ORGANIZER;CN="The Reading League North Carolina":MAILTO:info@nc.thereadingleague.org
END:VEVENT
BEGIN:VEVENT
DTSTART;TZID=America/New_York:20240828T190000
DTEND;TZID=America/New_York:20240828T201500
DTSTAMP:20260419T083453
CREATED:20240807T204100Z
LAST-MODIFIED:20240807T204100Z
UID:10000028-1724871600-1724876100@nc.thereadingleague.org
SUMMARY:Spotlight - Climbing the Ladder of Reading and Writing: Powerful Takeaways from Co-Editors
DESCRIPTION:
URL:https://nc.thereadingleague.org/calendar/spotlight-climbing-the-ladder-of-reading-and-writing-powerful-takeaways-from-co-editors/2024-08-28/
LOCATION:Zoom
ATTACH;FMTTYPE=image/png:https://nc.thereadingleague.org/wp-content/uploads/sites/76/2024/08/NC-Chapter-3.png
ORGANIZER;CN="The Reading League North Carolina":MAILTO:info@nc.thereadingleague.org
END:VEVENT
BEGIN:VEVENT
DTSTART;TZID=America/New_York:20240821T190000
DTEND;TZID=America/New_York:20240821T201500
DTSTAMP:20260419T083453
CREATED:20240807T204100Z
LAST-MODIFIED:20240807T204100Z
UID:10000027-1724266800-1724271300@nc.thereadingleague.org
SUMMARY:Spotlight - Climbing the Ladder of Reading and Writing: Powerful Takeaways from Co-Editors
DESCRIPTION:
URL:https://nc.thereadingleague.org/calendar/spotlight-climbing-the-ladder-of-reading-and-writing-powerful-takeaways-from-co-editors/2024-08-21/
LOCATION:Zoom
ATTACH;FMTTYPE=image/png:https://nc.thereadingleague.org/wp-content/uploads/sites/76/2024/08/NC-Chapter-3.png
ORGANIZER;CN="The Reading League North Carolina":MAILTO:info@nc.thereadingleague.org
END:VEVENT
BEGIN:VEVENT
DTSTART;TZID=America/New_York:20240806T180000
DTEND;TZID=America/New_York:20240806T193000
DTSTAMP:20260419T083453
CREATED:20240321T211213Z
LAST-MODIFIED:20240321T211213Z
UID:10000024-1722967200-1722972600@nc.thereadingleague.org
SUMMARY:Summer Book Study: The Reading Comprehension Blueprint
DESCRIPTION:
URL:https://nc.thereadingleague.org/calendar/summer-book-study-the-reading-comprehension-blueprint/2024-08-06/
LOCATION:Zoom
ATTACH;FMTTYPE=image/png:https://nc.thereadingleague.org/wp-content/uploads/sites/76/2024/03/RCB-Book-Study-Announcement-March-2024-Option-1-new-bitly.png
ORGANIZER;CN="The Reading League North Carolina":MAILTO:info@nc.thereadingleague.org
END:VEVENT
BEGIN:VEVENT
DTSTART;TZID=America/New_York:20240709T180000
DTEND;TZID=America/New_York:20240709T193000
DTSTAMP:20260419T083453
CREATED:20240321T211213Z
LAST-MODIFIED:20240321T211213Z
UID:10000023-1720548000-1720553400@nc.thereadingleague.org
SUMMARY:Summer Book Study: The Reading Comprehension Blueprint
DESCRIPTION:
URL:https://nc.thereadingleague.org/calendar/summer-book-study-the-reading-comprehension-blueprint/2024-07-09/
LOCATION:Zoom
ATTACH;FMTTYPE=image/png:https://nc.thereadingleague.org/wp-content/uploads/sites/76/2024/03/RCB-Book-Study-Announcement-March-2024-Option-1-new-bitly.png
ORGANIZER;CN="The Reading League North Carolina":MAILTO:info@nc.thereadingleague.org
END:VEVENT
BEGIN:VEVENT
DTSTART;TZID=America/New_York:20240604T180000
DTEND;TZID=America/New_York:20240604T193000
DTSTAMP:20260419T083453
CREATED:20240321T211213Z
LAST-MODIFIED:20240321T211213Z
UID:10000022-1717524000-1717529400@nc.thereadingleague.org
SUMMARY:Summer Book Study: The Reading Comprehension Blueprint
DESCRIPTION:
URL:https://nc.thereadingleague.org/calendar/summer-book-study-the-reading-comprehension-blueprint/2024-06-04/
LOCATION:Zoom
ATTACH;FMTTYPE=image/png:https://nc.thereadingleague.org/wp-content/uploads/sites/76/2024/03/RCB-Book-Study-Announcement-March-2024-Option-1-new-bitly.png
ORGANIZER;CN="The Reading League North Carolina":MAILTO:info@nc.thereadingleague.org
END:VEVENT
BEGIN:VEVENT
DTSTART;TZID=America/New_York:20240515T190000
DTEND;TZID=America/New_York:20240515T200000
DTSTAMP:20260419T083453
CREATED:20231218T183356Z
LAST-MODIFIED:20231218T183356Z
UID:10000018-1715799600-1715803200@nc.thereadingleague.org
SUMMARY:7 Mighty Moves
DESCRIPTION:
URL:https://nc.thereadingleague.org/calendar/7-mighty-moves/2024-05-15/
LOCATION:Zoom
ATTACH;FMTTYPE=image/png:https://nc.thereadingleague.org/wp-content/uploads/sites/76/2023/12/7-Mighty-Moves-Book-Study-with-TRL-PA-and-TRL-NY-updated-logos.png
END:VEVENT
BEGIN:VEVENT
DTSTART;TZID=America/New_York:20240507T180000
DTEND;TZID=America/New_York:20240507T200000
DTSTAMP:20260419T083453
CREATED:20240321T211213Z
LAST-MODIFIED:20240321T211213Z
UID:10000021-1715104800-1715112000@nc.thereadingleague.org
SUMMARY:Summer Book Study: The Reading Comprehension Blueprint
DESCRIPTION:
URL:https://nc.thereadingleague.org/calendar/summer-book-study-the-reading-comprehension-blueprint/2024-05-07/
LOCATION:Zoom
ATTACH;FMTTYPE=image/png:https://nc.thereadingleague.org/wp-content/uploads/sites/76/2024/03/RCB-Book-Study-Announcement-March-2024-Option-1-new-bitly.png
ORGANIZER;CN="The Reading League North Carolina":MAILTO:info@nc.thereadingleague.org
END:VEVENT
BEGIN:VEVENT
DTSTART;TZID=America/New_York:20240417T190000
DTEND;TZID=America/New_York:20240417T200000
DTSTAMP:20260419T083453
CREATED:20231218T183356Z
LAST-MODIFIED:20231218T183356Z
UID:10000017-1713380400-1713384000@nc.thereadingleague.org
SUMMARY:7 Mighty Moves
DESCRIPTION:
URL:https://nc.thereadingleague.org/calendar/7-mighty-moves/2024-04-17/
LOCATION:Zoom
ATTACH;FMTTYPE=image/png:https://nc.thereadingleague.org/wp-content/uploads/sites/76/2023/12/7-Mighty-Moves-Book-Study-with-TRL-PA-and-TRL-NY-updated-logos.png
END:VEVENT
BEGIN:VEVENT
DTSTART;TZID=America/New_York:20240406T090000
DTEND;TZID=America/New_York:20240406T100000
DTSTAMP:20260419T083453
CREATED:20240323T202717Z
LAST-MODIFIED:20240323T202717Z
UID:10000026-1712394000-1712397600@nc.thereadingleague.org
SUMMARY:Get to Know The Reading League - Members' Only Series
DESCRIPTION:
URL:https://nc.thereadingleague.org/calendar/get-to-know-the-reading-league-members-only-series/
LOCATION:Zoom
ATTACH;FMTTYPE=image/png:https://nc.thereadingleague.org/wp-content/uploads/sites/76/2024/03/4624-Member-Event-2.png
END:VEVENT
BEGIN:VEVENT
DTSTART;TZID=America/New_York:20240320T190000
DTEND;TZID=America/New_York:20240320T200000
DTSTAMP:20260419T083453
CREATED:20231218T183356Z
LAST-MODIFIED:20231218T183356Z
UID:10000016-1710961200-1710964800@nc.thereadingleague.org
SUMMARY:7 Mighty Moves
DESCRIPTION:
URL:https://nc.thereadingleague.org/calendar/7-mighty-moves/2024-03-20/
LOCATION:Zoom
ATTACH;FMTTYPE=image/png:https://nc.thereadingleague.org/wp-content/uploads/sites/76/2023/12/7-Mighty-Moves-Book-Study-with-TRL-PA-and-TRL-NY-updated-logos.png
END:VEVENT
BEGIN:VEVENT
DTSTART;TZID=America/New_York:20240221T190000
DTEND;TZID=America/New_York:20240221T200000
DTSTAMP:20260419T083453
CREATED:20231218T183356Z
LAST-MODIFIED:20231218T183356Z
UID:10000015-1708542000-1708545600@nc.thereadingleague.org
SUMMARY:7 Mighty Moves
DESCRIPTION:
URL:https://nc.thereadingleague.org/calendar/7-mighty-moves/2024-02-21/
LOCATION:Zoom
ATTACH;FMTTYPE=image/png:https://nc.thereadingleague.org/wp-content/uploads/sites/76/2023/12/7-Mighty-Moves-Book-Study-with-TRL-PA-and-TRL-NY-updated-logos.png
END:VEVENT
BEGIN:VEVENT
DTSTART;TZID=America/New_York:20240212T083000
DTEND;TZID=America/New_York:20240212T133000
DTSTAMP:20260419T083453
CREATED:20231218T184139Z
LAST-MODIFIED:20231218T184139Z
UID:10000020-1707726600-1707744600@nc.thereadingleague.org
SUMMARY:Annual Day of Dyslexia\, a Structured Literacy Symposium
DESCRIPTION:
URL:https://nc.thereadingleague.org/calendar/annual-day-of-dyslexia-a-structured-literacy-symposium/
LOCATION:Hill Learning Center\, 3200 Pickett Road Open this address in Google Maps (opens a new tab)\, Durham\, NC\, 27705\, United States
ATTACH;FMTTYPE=image/png:https://nc.thereadingleague.org/wp-content/uploads/sites/76/2023/12/Day-of-Dyslexia-2024-IDA-NC.png
ORGANIZER;CN="International Dyslexia Association%2C North Carolina Branch":MAILTO:northcarolina.ida@gmail.com
END:VEVENT
BEGIN:VEVENT
DTSTART;TZID=America/New_York:20240123T190000
DTEND;TZID=America/New_York:20240123T200000
DTSTAMP:20260419T083453
CREATED:20231218T183641Z
LAST-MODIFIED:20231218T183641Z
UID:10000019-1706036400-1706040000@nc.thereadingleague.org
SUMMARY:Grounding Multilingual Learners' Reading Instruction in Evidence
DESCRIPTION:
URL:https://nc.thereadingleague.org/calendar/grounding-multilingual-learners-reading-instruction-in-evidence/
LOCATION:Zoom
ATTACH;FMTTYPE=image/png:https://nc.thereadingleague.org/wp-content/uploads/sites/76/2023/12/95-Updates-1_23_24-Event-Option-2.png
ORGANIZER;CN="The Reading League North Carolina":MAILTO:info@nc.thereadingleague.org
END:VEVENT
BEGIN:VEVENT
DTSTART;TZID=America/New_York:20240117T190000
DTEND;TZID=America/New_York:20240117T200000
DTSTAMP:20260419T083453
CREATED:20231218T183356Z
LAST-MODIFIED:20231218T183356Z
UID:10000014-1705518000-1705521600@nc.thereadingleague.org
SUMMARY:7 Mighty Moves
DESCRIPTION:
URL:https://nc.thereadingleague.org/calendar/7-mighty-moves/2024-01-17/
LOCATION:Zoom
ATTACH;FMTTYPE=image/png:https://nc.thereadingleague.org/wp-content/uploads/sites/76/2023/12/7-Mighty-Moves-Book-Study-with-TRL-PA-and-TRL-NY-updated-logos.png
END:VEVENT
BEGIN:VEVENT
DTSTART;TZID=America/New_York:20231220T190000
DTEND;TZID=America/New_York:20231220T200000
DTSTAMP:20260419T083453
CREATED:20231218T183356Z
LAST-MODIFIED:20231218T183356Z
UID:10000013-1703098800-1703102400@nc.thereadingleague.org
SUMMARY:7 Mighty Moves
DESCRIPTION:
URL:https://nc.thereadingleague.org/calendar/7-mighty-moves/2023-12-20/
LOCATION:Zoom
ATTACH;FMTTYPE=image/png:https://nc.thereadingleague.org/wp-content/uploads/sites/76/2023/12/7-Mighty-Moves-Book-Study-with-TRL-PA-and-TRL-NY-updated-logos.png
END:VEVENT
BEGIN:VEVENT
DTSTART;TZID=America/New_York:20231107T080000
DTEND;TZID=America/New_York:20231107T090000
DTSTAMP:20260419T083453
CREATED:20231007T112845Z
LAST-MODIFIED:20231007T112845Z
UID:10000012-1699344000-1699347600@nc.thereadingleague.org
SUMMARY:Rise and Read 2023
DESCRIPTION:The Reading League North Carolina is a nonprofit sponsor of this event.
URL:https://nc.thereadingleague.org/calendar/rise-and-read-2023/
LOCATION:Rhodes Conf Center-Strickland Building Forsyth Tech\, 1615 Miller Street\, Winston-Salem\, NC\, 27103\, United States
ATTACH;FMTTYPE=image/png:https://nc.thereadingleague.org/wp-content/uploads/sites/76/2023/10/sponsorheader-1.png
ORGANIZER;CN="Read Write Spell":MAILTO:info@readws.org
END:VEVENT
BEGIN:VEVENT
DTSTART;TZID=America/New_York:20231017T180000
DTEND;TZID=America/New_York:20231017T210000
DTSTAMP:20260419T083453
CREATED:20231007T112858Z
LAST-MODIFIED:20231007T113037Z
UID:10000011-1697565600-1697576400@nc.thereadingleague.org
SUMMARY:The Right to Read Film Screening and Conversation
DESCRIPTION:
URL:https://nc.thereadingleague.org/calendar/the-right-to-read-film-screening-and-conversation/
LOCATION:Hayti Heritage Center\, 804 Old Fayetteville Street\, Durham\, NC\, 27701\, United States
ORGANIZER;CN="Hill Learning Center":MAILTO:info@hillcenter.org
END:VEVENT
BEGIN:VEVENT
DTSTART;TZID=America/New_York:20230919T190000
DTEND;TZID=America/New_York:20230919T200000
DTSTAMP:20260419T083453
CREATED:20230902T200208Z
LAST-MODIFIED:20230902T201519Z
UID:10000010-1695150000-1695153600@nc.thereadingleague.org
SUMMARY:Back to School Celebration with The Reading League North Carolina
DESCRIPTION:Join The Reading League North Carolina for a virtual Back to School Celebration for the new year! Meet other members and friends in our community. Learn more about TRL-NC and events. Join our breakout room discussion based on Dr. Stephanie Stollar’s guidance: “Moving from Shared Reading to Intentionally Reading Aloud.” We have prizes to give away!
URL:https://nc.thereadingleague.org/calendar/back-to-school-celebration-with-the-reading-league-north-carolina/
LOCATION:Zoom
CATEGORIES:Chapters,Event,Live Event
ATTACH;FMTTYPE=application/pdf:https://nc.thereadingleague.org/wp-content/uploads/sites/76/2023/09/2023-Back-to-School-Event.pdf
ORGANIZER;CN="The Reading League North Carolina":MAILTO:info@nc.thereadingleague.org
END:VEVENT
BEGIN:VEVENT
DTSTART;TZID=America/New_York:20230720T090000
DTEND;TZID=America/New_York:20230720T130000
DTSTAMP:20260419T083453
CREATED:20230622T011256Z
LAST-MODIFIED:20230622T011256Z
UID:10000009-1689843600-1689858000@nc.thereadingleague.org
SUMMARY:The Right to Read Screening and Panel Discussion
DESCRIPTION:
URL:https://nc.thereadingleague.org/calendar/the-right-to-read-screening-and-panel-discussion/
LOCATION:The Dubois Center at UNC Charlotte Center City\, 320 E 9th St.\, Charlotte\, North Carolina\, 28202\, United States
CATEGORIES:Chapters,Event,New
ATTACH;FMTTYPE=image/png:https://nc.thereadingleague.org/wp-content/uploads/sites/76/2023/06/Draft_TRLNC_July20.png
ORGANIZER;CN="The Reading League North Carolina":MAILTO:info@nc.thereadingleague.org
END:VEVENT
BEGIN:VEVENT
DTSTART;TZID=America/New_York:20220628T080000
DTEND;TZID=America/New_York:20220628T170000
DTSTAMP:20260419T083453
CREATED:20220509T164728Z
LAST-MODIFIED:20220509T164728Z
UID:10000007-1656403200-1656435600@nc.thereadingleague.org
SUMMARY:Title of Event
DESCRIPTION:Full description of event.
URL:https://nc.thereadingleague.org/calendar/title-of-event/
CATEGORIES:National,Speaking Engagement
END:VEVENT
BEGIN:VEVENT
DTSTART;TZID=UTC:20220622T080000
DTEND;TZID=UTC:20220622T170000
DTSTAMP:20260419T083453
CREATED:20220509T215443Z
LAST-MODIFIED:20220509T215443Z
UID:10000008-1655884800-1655917200@nc.thereadingleague.org
SUMMARY:New Event Test
DESCRIPTION:Full description
URL:https://nc.thereadingleague.org/calendar/new-event-test/
CATEGORIES:Chapters,New,Wisconsin
ATTACH;FMTTYPE=image/png:https://nc.thereadingleague.org/wp-content/uploads/sites/76/2022/03/image-coming-soon-dark.png
END:VEVENT
BEGIN:VEVENT
DTSTART;TZID=America/New_York:20220526T110000
DTEND;TZID=America/New_York:20220526T123000
DTSTAMP:20260419T083453
CREATED:20220301T191039Z
LAST-MODIFIED:20220506T203601Z
UID:10000005-1653562800-1653568200@nc.thereadingleague.org
SUMMARY:New Event
DESCRIPTION:Description:  \nWords
URL:https://nc.thereadingleague.org/calendar/new-event/
LOCATION:The Reading League\, 123 Road\, Syracuse\, NY\, United States
CATEGORIES:Live Event,National
ATTACH;FMTTYPE=image/png:https://nc.thereadingleague.org/wp-content/uploads/sites/76/2022/03/events.png
END:VEVENT
END:VCALENDAR